BEGIN:VCALENDAR
VERSION:2.0
PRODID:icalendar-ruby
CALSCALE:GREGORIAN
METHOD:PUBLISH
BEGIN:VEVENT
DTSTAMP:20260419T155314Z
UID:135-2800845@christianlifewtn.com
DTSTART:20261012T220000Z
DTEND:20261013T013000Z
CLASS:PUBLIC
CREATED:20260419T101107
DESCRIPTION:\nMonday nights in the church basement. The entrance is from th
 e west side of the building.\nLos lunes por la noche en el sótano de la i
 glesia. La entrada es por el lado oeste del edificio.\n\n\n5-6 pm - Ages 5
 -8\,  6-7 pm - Ages 9-12\,  7-8:30 pm - Ages 13+\n5-6 pm - 5-8 años\,
  6-7 pm - 9-12 años\, 7-8:30 pm - 13+ años\n
LAST-MODIFIED:20260419T101107
LOCATION:Church / Iglesia
SUMMARY:Trinity TaeKwon-Do
URL;VALUE=URI:https://christianlifewtn.com/events/trinity-taekwon-do--135/2
 026-10-12
ATTACH;FILENAME=TKD-Logo.png;FMTTYPE=image/png:https://dq5pwpg1q8ru0.cloudf
 ront.net/2023/11/27/09/53/59/bc17489a-5273-42c4-b2b0-3f68ae8d3a88/TKD-Logo
 .png
END:VEVENT
END:VCALENDAR
