BEGIN:VCALENDAR
VERSION:2.0
PRODID:icalendar-ruby
CALSCALE:GREGORIAN
METHOD:PUBLISH
BEGIN:VEVENT
DTSTAMP:20260422T235634Z
UID:5-2836819@christianlifewtn.com
DTSTART:20261018T160000Z
DTEND:20261018T170000Z
CLASS:PUBLIC
CREATED:20260422T174735
DESCRIPTION:Sunday Worship
LAST-MODIFIED:20260422T174735
LOCATION:
SUMMARY:Sunday Worship
URL;VALUE=URI:https://christianlifewtn.com/events/sunday-worship/2026-10-18
END:VEVENT
END:VCALENDAR
