BEGIN:VCALENDAR
VERSION:2.0
PRODID:icalendar-ruby
CALSCALE:GREGORIAN
METHOD:PUBLISH
BEGIN:VEVENT
DTSTAMP:20260422T222906Z
UID:5-2835037@christianlifewtn.com
DTSTART:20261011T160000Z
DTEND:20261011T170000Z
CLASS:PUBLIC
CREATED:20260422T145354
DESCRIPTION:Sunday Worship
LAST-MODIFIED:20260422T145354
LOCATION:
SUMMARY:Sunday Worship
URL;VALUE=URI:https://christianlifewtn.com/events/sunday-worship/2026-10-11
END:VEVENT
END:VCALENDAR
