BEGIN:VCALENDAR
VERSION:2.0
PRODID:icalendar-ruby
CALSCALE:GREGORIAN
METHOD:PUBLISH
BEGIN:VEVENT
DTSTAMP:20260422T190313Z
UID:5-2833254@christianlifewtn.com
DTSTART:20260927T160000Z
DTEND:20260927T170000Z
CLASS:PUBLIC
CREATED:20260422T115901
DESCRIPTION:Sunday Worship
LAST-MODIFIED:20260422T115901
LOCATION:
SUMMARY:Sunday Worship
URL;VALUE=URI:https://christianlifewtn.com/events/sunday-worship/2026-09-27
END:VEVENT
END:VCALENDAR
